BEGIN:VCALENDAR
VERSION:2.0
PRODID:-//South Bay ALC - ECPv6.15.18//NONSGML v1.0//EN
CALSCALE:GREGORIAN
METHOD:PUBLISH
X-ORIGINAL-URL:https://southbayalc.com
X-WR-CALDESC:Events for South Bay ALC
REFRESH-INTERVAL;VALUE=DURATION:PT1H
X-Robots-Tag:noindex
X-PUBLISHED-TTL:PT1H
BEGIN:VTIMEZONE
TZID:UTC
BEGIN:STANDARD
TZOFFSETFROM:+0000
TZOFFSETTO:+0000
TZNAME:UTC
DTSTART:20140101T000000
END:STANDARD
END:VTIMEZONE
BEGIN:VTIMEZONE
TZID:America/Los_Angeles
BEGIN:DAYLIGHT
TZOFFSETFROM:-0800
TZOFFSETTO:-0700
TZNAME:PDT
DTSTART:20140309T100000
END:DAYLIGHT
BEGIN:STANDARD
TZOFFSETFROM:-0700
TZOFFSETTO:-0800
TZNAME:PST
DTSTART:20141102T090000
END:STANDARD
BEGIN:DAYLIGHT
TZOFFSETFROM:-0800
TZOFFSETTO:-0700
TZNAME:PDT
DTSTART:20150308T100000
END:DAYLIGHT
BEGIN:STANDARD
TZOFFSETFROM:-0700
TZOFFSETTO:-0800
TZNAME:PST
DTSTART:20151101T090000
END:STANDARD
BEGIN:DAYLIGHT
TZOFFSETFROM:-0800
TZOFFSETTO:-0700
TZNAME:PDT
DTSTART:20160313T100000
END:DAYLIGHT
BEGIN:STANDARD
TZOFFSETFROM:-0700
TZOFFSETTO:-0800
TZNAME:PST
DTSTART:20161106T090000
END:STANDARD
END:VTIMEZONE
BEGIN:VEVENT
DTSTART;TZID=UTC:20151227T090000
DTEND;TZID=UTC:20151227T103000
DTSTAMP:20260423T194623
CREATED:20151004T164345Z
LAST-MODIFIED:20151004T164345Z
UID:2207-1451206800-1451212200@southbayalc.com
SUMMARY:Services
DESCRIPTION:
URL:https://southbayalc.com/event/services-13/
LOCATION:South Bay Abundant Life Church\, 2679 E Carson St\, Carson\, CA\, 90810\, United States
CATEGORIES:Service Schedule
END:VEVENT
BEGIN:VEVENT
DTSTART;TZID=UTC:20151220T090000
DTEND;TZID=UTC:20151220T103000
DTSTAMP:20260423T194623
CREATED:20151004T164318Z
LAST-MODIFIED:20151004T164318Z
UID:2206-1450602000-1450607400@southbayalc.com
SUMMARY:Services
DESCRIPTION:
URL:https://southbayalc.com/event/services-12/
LOCATION:South Bay Abundant Life Church\, 2679 E Carson St\, Carson\, CA\, 90810\, United States
CATEGORIES:Service Schedule
END:VEVENT
BEGIN:VEVENT
DTSTART;TZID=UTC:20151213T090000
DTEND;TZID=UTC:20151213T103000
DTSTAMP:20260423T194623
CREATED:20151004T164251Z
LAST-MODIFIED:20151004T164251Z
UID:2205-1449997200-1450002600@southbayalc.com
SUMMARY:Services
DESCRIPTION:
URL:https://southbayalc.com/event/services-11/
LOCATION:South Bay Abundant Life Church\, 2679 E Carson St\, Carson\, CA\, 90810\, United States
CATEGORIES:Service Schedule
END:VEVENT
BEGIN:VEVENT
DTSTART;TZID=UTC:20151206T090000
DTEND;TZID=UTC:20151206T103000
DTSTAMP:20260423T194623
CREATED:20151004T164216Z
LAST-MODIFIED:20151004T164216Z
UID:2204-1449392400-1449397800@southbayalc.com
SUMMARY:Services
DESCRIPTION:
URL:https://southbayalc.com/event/services-10/
LOCATION:South Bay Abundant Life Church\, 2679 E Carson St\, Carson\, CA\, 90810\, United States
CATEGORIES:Service Schedule
END:VEVENT
BEGIN:VEVENT
DTSTART;TZID=UTC:20151129T090000
DTEND;TZID=UTC:20151129T103000
DTSTAMP:20260423T194623
CREATED:20151004T164144Z
LAST-MODIFIED:20151004T164144Z
UID:2203-1448787600-1448793000@southbayalc.com
SUMMARY:Services
DESCRIPTION:
URL:https://southbayalc.com/event/services-9/
LOCATION:South Bay Abundant Life Church\, 2679 E Carson St\, Carson\, CA\, 90810\, United States
CATEGORIES:Service Schedule
END:VEVENT
BEGIN:VEVENT
DTSTART;TZID=UTC:20151122T090000
DTEND;TZID=UTC:20151122T103000
DTSTAMP:20260423T194623
CREATED:20151004T164118Z
LAST-MODIFIED:20151004T164118Z
UID:2202-1448182800-1448188200@southbayalc.com
SUMMARY:Services
DESCRIPTION:
URL:https://southbayalc.com/event/services-8/
LOCATION:South Bay Abundant Life Church\, 2679 E Carson St\, Carson\, CA\, 90810\, United States
CATEGORIES:Service Schedule
END:VEVENT
BEGIN:VEVENT
DTSTART;TZID=UTC:20151115T090000
DTEND;TZID=UTC:20151115T103000
DTSTAMP:20260423T194623
CREATED:20151004T164039Z
LAST-MODIFIED:20151004T164039Z
UID:2201-1447578000-1447583400@southbayalc.com
SUMMARY:Services
DESCRIPTION:
URL:https://southbayalc.com/event/services-7/
LOCATION:South Bay Abundant Life Church\, 2679 E Carson St\, Carson\, CA\, 90810\, United States
CATEGORIES:Service Schedule
END:VEVENT
BEGIN:VEVENT
DTSTART;TZID=UTC:20151108T090000
DTEND;TZID=UTC:20151108T103000
DTSTAMP:20260423T194623
CREATED:20151004T164012Z
LAST-MODIFIED:20151004T164012Z
UID:2200-1446973200-1446978600@southbayalc.com
SUMMARY:Services
DESCRIPTION:
URL:https://southbayalc.com/event/services-6/
LOCATION:South Bay Abundant Life Church\, 2679 E Carson St\, Carson\, CA\, 90810\, United States
CATEGORIES:Service Schedule
END:VEVENT
BEGIN:VEVENT
DTSTART;TZID=UTC:20151101T090000
DTEND;TZID=UTC:20151101T103000
DTSTAMP:20260423T194623
CREATED:20151004T163925Z
LAST-MODIFIED:20151004T163925Z
UID:2199-1446368400-1446373800@southbayalc.com
SUMMARY:Services
DESCRIPTION:
URL:https://southbayalc.com/event/services-5/
LOCATION:South Bay Abundant Life Church\, 2679 E Carson St\, Carson\, CA\, 90810\, United States
CATEGORIES:Service Schedule
END:VEVENT
BEGIN:VEVENT
DTSTART;TZID=UTC:20151025T090000
DTEND;TZID=UTC:20151025T103000
DTSTAMP:20260423T194623
CREATED:20151004T163844Z
LAST-MODIFIED:20151004T164432Z
UID:2198-1445763600-1445769000@southbayalc.com
SUMMARY:Services
DESCRIPTION:
URL:https://southbayalc.com/event/services-4/
LOCATION:South Bay Abundant Life Church\, 2679 E Carson St\, Carson\, CA\, 90810\, United States
CATEGORIES:Service Schedule
END:VEVENT
BEGIN:VEVENT
DTSTART;TZID=UTC:20151018T090000
DTEND;TZID=UTC:20151018T103000
DTSTAMP:20260423T194623
CREATED:20151004T163812Z
LAST-MODIFIED:20151004T164458Z
UID:2197-1445158800-1445164200@southbayalc.com
SUMMARY:Services
DESCRIPTION:
URL:https://southbayalc.com/event/services-3/
LOCATION:South Bay Abundant Life Church\, 2679 E Carson St\, Carson\, CA\, 90810\, United States
CATEGORIES:Service Schedule
END:VEVENT
BEGIN:VEVENT
DTSTART;TZID=UTC:20151011T090000
DTEND;TZID=UTC:20151011T103000
DTSTAMP:20260423T194623
CREATED:20151004T163719Z
LAST-MODIFIED:20151004T164432Z
UID:2196-1444554000-1444559400@southbayalc.com
SUMMARY:Services
DESCRIPTION:
URL:https://southbayalc.com/event/services-2/
LOCATION:South Bay Abundant Life Church\, 2679 E Carson St\, Carson\, CA\, 90810\, United States
CATEGORIES:Service Schedule
END:VEVENT
BEGIN:VEVENT
DTSTART;TZID=America/Los_Angeles:20151004T090000
DTEND;TZID=America/Los_Angeles:20151004T103000
DTSTAMP:20260423T194623
CREATED:20151004T163246Z
LAST-MODIFIED:20151004T163246Z
UID:2194-1443949200-1443954600@southbayalc.com
SUMMARY:Services
DESCRIPTION:
URL:https://southbayalc.com/event/services/
LOCATION:South Bay Abundant Life Church\, 2679 E Carson St\, Carson\, CA\, 90810\, United States
CATEGORIES:Service Schedule
END:VEVENT
END:VCALENDAR